BEGIN:VCALENDAR
VERSION:2.0
PRODID:-//ChamberMaster//Event Calendar 2.0//EN
METHOD:PUBLISH
X-PUBLISHED-TTL:P3D
REFRESH-INTERVAL:P3D
CALSCALE:GREGORIAN
BEGIN:VEVENT
DTSTART:20200710T160000Z
DTEND:20200710T164500Z
X-MICROSOFT-CDO-ALLDAYEVENT:FALSE
SUMMARY:Wyoming Skies with Düsseldorf Eyes: Albert Bierstadt’s Frontier Vision
DESCRIPTION:The German-American painter Albert Bierstadt's monumental landscapes defined the vision of the West in the American popular imagination. Recently\, scholars have noted how Bierstadt's vision of the West was informed by his training in D sseldorf\, a small but influential city on the Rhine\, far from the Rocky Mountains. Join American Art Research Fellow Grant Hamming as he shares the latest research on Bierstadt\, whose Shoshone Indians - Rocky Mountains is currently on view in the exhibition The Place as Metaphor.\n\n\n\n \n\nWebex Link and password to join:\n\nhttps://tinyurl.com/y8cwtuju\n\nPassword: CFAM\n\n    \n\n\n\n\n\n \n\nImage caption: Albert Bierstadt\, (American\, 1830-1902)\, Shoshone Indians Rocky Mountains\, 1859\, Oil and gouache on paper mounted on board\, 5 x 7 5/16 in.\, Gift of Samuel B. and Marion W. Lawrence\, 1991.9
X-ALT-DESC;FMTTYPE=text/html:<p>The German-American painter Albert Bierstadt&#39\;s monumental landscapes defined the vision of the West in the American popular imagination. Recently\, scholars have noted how Bierstadt&#39\;s vision of the West was informed by his training in D&uuml\;sseldorf\, a small but influential city on the Rhine\, far from the Rocky Mountains. Join American Art Research Fellow Grant Hamming as he shares the latest research on Bierstadt\, whose <em>Shoshone Indians - Rocky Mountains</em>&nbsp\;is currently on view in the exhibition <em>The Place as Metaphor</em>.<br />\n<br />\n&nbsp\;</p>\n\n<p><strong>Webex Link and password to join:</strong></p>\n\n<p><u>https://tinyurl.com/y8cwtuju</u></p>\n\n<p>Password: CFAM</p>\n\n<p>&nbsp\;&nbsp\; &nbsp\;<br />\n<br />\n<br />\n&nbsp\;</p>\n\n<p><span style="color:rgb(0\, 0\, 0)\; font-family:times"><strong>Image caption: </strong></span>Albert Bierstadt\, (American\, 1830-1902)\, <em>Shoshone Indians Rocky Mountains\, </em>1859\, Oil and gouache on paper mounted on board\, 5 x 7 5/16 in.\, Gift of Samuel B. and Marion W. Lawrence\, 1991.9</p>\n
LOCATION:https://tinyurl.com/y8cwtuju
UID:e.3221.5041075
SEQUENCE:3
DTSTAMP:20260420T180942Z
URL:https://winterparkgzcms.preview.gochambermaster.com/events/details/wyoming-skies-with-d&#252;sseldorf-eyes-albert-bierstadt-s-frontier-vision-5041075
END:VEVENT

END:VCALENDAR
