BEGIN:VCALENDAR
VERSION:2.0
PRODID:-//ChamberMaster//Event Calendar 2.0//EN
METHOD:PUBLISH
X-PUBLISHED-TTL:P3D
REFRESH-INTERVAL:P3D
CALSCALE:GREGORIAN
BEGIN:VEVENT
DTSTART:20200306T230000Z
DTEND:20200308T030000Z
X-MICROSOFT-CDO-ALLDAYEVENT:FALSE
SUMMARY:Wyland Art Show
DESCRIPTION:Ocean Blue Galleries will host a live show with Wyland the artist. Renowned for his underwater art. Add this to your calendar\, you don't want to miss the opportunity to watch him paint LIVE
X-ALT-DESC;FMTTYPE=text/html:Ocean Blue Galleries will host a live show with Wyland the artist. Renowned for his underwater art. Add this to your calendar\, you don&#39\;t want to miss the opportunity to watch him paint LIVE
LOCATION:202 S Park Ave Winter Park\, Fl 32789
UID:e.3221.5039532
SEQUENCE:3
DTSTAMP:20260421T024549Z
URL:https://winterparkgzcms.preview.gochambermaster.com/events/details/wyland-art-show-03-06-2020-5039532
END:VEVENT

END:VCALENDAR
