BEGIN:VCALENDAR
VERSION:2.0
PRODID:-//ChamberMaster//Event Calendar 2.0//EN
METHOD:PUBLISH
X-PUBLISHED-TTL:P3D
REFRESH-INTERVAL:P3D
CALSCALE:GREGORIAN
BEGIN:VEVENT
DTSTART:20190208T190000Z
DTEND:20190208T210000Z
X-MICROSOFT-CDO-ALLDAYEVENT:FALSE
SUMMARY:Wekiva River Eco Adventure : SUP and Swim / SUP and Hike
DESCRIPTION:Welcome to the Wonderfully resplendent Wild and Scenic Wekiva River!!\n\n\n\nWe are very forunate to have this amazing federally designated "wild and scenic " waterway and watershed right in our own backyard! It truely is a paddlers dream location. With a boat free\, crystal clear\, shallow depth\, slow flowing spring run the wekiva is the ideal location for paddle crafts to explore and enjoy nature safely and in a unique fun way! Our route is suitable for beginners and first timers and kids over 13.\n\n\n\nThe river is mostly shaded and sheltered from wind by it's tree line. Along the way expect to see lot's of fish\, turtles\, birds\, maybe a small lazy gator and sometimes we'll get lucky and see deer\, otters and bears! \n\n\n\nSince the first part is upriver\, you will need to utilize the correct techniques for paddling explained before the start by your SUP instructor. Just about 3.0 miles in total length and 2 hours in duration\, this paddle will launch from wekiva island and head upriver to the springs at the state park. We'll park our boards at the state park and go ashore\, your admision to the park is included.\n\n\n\nOnce inside depending on the weather and the group\, we will either take a short hike thru the park on a designated boardwalk and trail or we will go for a swim in the spring head. In the designated swim area there is a rock formation with a large crack where the springs water pours out at a rate of around 50 million gallons.\n\n\n\nYou'll have the opportunity to swim thru the crack and have the springs force push you up\, sounds scary but it's not. It's safe and fun and enjoyed by folks of all ages for many years without incident. We do bring a limited amount of masks and goggles. If you prefer your own\, make sure you bring it with you on this trip! Leave the fins at home\, they aren't needed as they tend to cloud up the spring by stirring up the bottom. If you have a gopro or waterproof action camera\, picks inside the "crack" are really cool!\n\n\n\nAfter our swim or hike\, we'll get back on the boards and let the current take us back to our starting point at wekiva island!! bring cash for afterwards if you want to sample the wares for the delicious "without a paddle' cafe and the "tooting otter bar " both located onsite at wekiva island. heck\, kick back and hang out after your paddle\, wekiva island is perfect for meeting new or old friends or just relaxing in a natural relaxing setting. Wekiva river adventure is one of our favorite paddles and the one we most often share with friends and family. Wekiva Island is an amazing oasis with something for everyone in your group.\n\n\n\nCheck our you tube channel for a 5 min. video that outlines our trip in more detail !
X-ALT-DESC;FMTTYPE=text/html:<span style="background-color:rgb(255\, 255\, 255)\; color:rgb(38\, 44\, 49)\; font-family:lucida grande\,verdana\,sans-serif\; font-size:15px">Welcome to the Wonderfully resplendent Wild and Scenic Wekiva River!!<br />\n<br />\nWe are very forunate to have this amazing federally designated &quot\;wild and scenic &quot\; waterway and watershed right in our own backyard! It truely is a paddlers dream location. With a boat free\, crystal clear\, shallow depth\, slow flowing spring run the wekiva is the ideal location for paddle crafts to explore and enjoy nature safely and in a unique fun way! Our route is suitable for beginners and first timers and kids over 13.<br />\n<br />\nThe river is mostly shaded and sheltered from wind by it&#39\;s tree line. Along the way expect to see lot&#39\;s of fish\, turtles\, birds\, maybe a small lazy gator and sometimes we&#39\;ll get lucky and see deer\, otters and bears!&nbsp\;</span><br />\n<br />\n<span style="background-color:rgb(255\, 255\, 255)\; color:rgb(38\, 44\, 49)\; font-family:lucida grande\,verdana\,sans-serif\; font-size:15px">Since the first part is upriver\, you will need to utilize the correct techniques for paddling explained before the start by your SUP instructor. Just about 3.0 miles in total length and 2 hours in duration\, this paddle will launch from wekiva island and head upriver to the springs at the state park. We&#39\;ll park our boards at the state park and go ashore\, your admision to the park is included.<br />\n<br />\nOnce inside depending on the weather and the group\, we will either take a short hike thru the park on a designated boardwalk and trail or we will go for a swim in the spring head. In the designated swim area there is a rock formation with a large crack where the springs water pours out at a rate of around 50 million gallons.<br />\n<br />\nYou&#39\;ll have the opportunity to swim thru the crack and have the springs force push you up\, sounds scary but it&#39\;s not. It&#39\;s safe and fun and enjoyed by folks of all ages for many years without incident. We do bring a limited amount of masks and goggles. If you prefer your own\, make sure you bring it with you on this trip! Leave the fins at home\, they aren&#39\;t needed as they tend to cloud up the spring by stirring up the bottom. If you have a gopro or waterproof action camera\, picks inside the &quot\;crack&quot\; are really cool!<br />\n<br />\nAfter our swim or hike\, we&#39\;ll get back on the boards and let the current take us back to our starting point at wekiva island!! bring cash for afterwards if you want to sample the wares for the delicious &quot\;without a paddle&#39\; cafe and the &quot\;tooting otter bar &quot\; both located onsite at wekiva island. heck\, kick back and hang out after your paddle\, wekiva island is perfect for meeting new or old friends or just relaxing in a natural relaxing setting. Wekiva river adventure is one of our favorite paddles and the one we most often share with friends and family. Wekiva Island is an amazing oasis with something for everyone in your group.<br />\n<br />\nCheck our you tube channel for a 5 min. video that outlines our trip in more detail !</span>
LOCATION:Wekiva Island1014 Miami Springs Dr Longwood\, FL 32779
UID:e.3221.5036916
SEQUENCE:3
DTSTAMP:20260422T000817Z
URL:https://winterparkgzcms.preview.gochambermaster.com/events/details/wekiva-river-eco-adventure-sup-and-swim-sup-and-hike-5036916
END:VEVENT

END:VCALENDAR
