BEGIN:VCALENDAR
VERSION:2.0
PRODID:-//ChamberMaster//Event Calendar 2.0//EN
METHOD:PUBLISH
X-PUBLISHED-TTL:P3D
REFRESH-INTERVAL:P3D
CALSCALE:GREGORIAN
BEGIN:VEVENT
DTSTART:20201014T170000Z
DTEND:20201014T193000Z
X-MICROSOFT-CDO-ALLDAYEVENT:FALSE
SUMMARY:Webinar: 2020 ACA Reporting - Big changes ahead. Are you prepared?
DESCRIPTION:ACA filing season is just around the corner and\, like with all things in 2020\, it's going to be an unprecedented filing experience. Employee furloughs\, layoffs\, and regulatory changes regarding the continuation of coverage will have a significant impact on employer filings.\n\n\n\n \n\nThis ACA filing webinar from Hub International will include important details and information to help you navigate the extraordinary workplace and employee benefits changes of 2020.\n\n \n\nYou can register here: https://register.gotowebinar.com/register/3907577873348239630?source=PR
X-ALT-DESC;FMTTYPE=text/html:<div>ACA filing season is just around the corner and\, like with all things in 2020\, it&rsquo\;s going to be an unprecedented filing experience. Employee furloughs\, layoffs\, and regulatory changes regarding the continuation of coverage will have a significant impact on employer filings.</div>\n\n<div>\n<div>\n<div>&nbsp\;<br />\nThis ACA filing webinar from <a href="https://www.hubinternational.com/">Hub International</a> will include important details and information to help you navigate the extraordinary workplace and employee benefits changes of 2020.<br />\n&nbsp\;<br />\nYou can register here: <a href="https://register.gotowebinar.com/register/3907577873348239630?source=PR">https://register.gotowebinar.com/register/3907577873348239630?source=PR</a></div>\n</div>\n</div>\n
LOCATION:webinar - online - https://register.gotowebinar.com/register/3907577873348239630?source=PR
UID:e.3221.5041412
SEQUENCE:3
DTSTAMP:20260420T100600Z
URL:https://winterparkgzcms.preview.gochambermaster.com/events/details/webinar-2020-aca-reporting-big-changes-ahead-are-you-prepared-5041412
END:VEVENT

END:VCALENDAR
