BEGIN:VCALENDAR
VERSION:2.0
PRODID:-//ChamberMaster//Event Calendar 2.0//EN
METHOD:PUBLISH
X-PUBLISHED-TTL:P3D
REFRESH-INTERVAL:P3D
CALSCALE:GREGORIAN
BEGIN:VEVENT
DTSTART:20190216T183000Z
DTEND:20190217T193000Z
X-MICROSOFT-CDO-ALLDAYEVENT:FALSE
SUMMARY:Voices of History: A Celebration of John Teidtke
DESCRIPTION:Relax and celebrate the history of the Bach Festival by hearing the story of John Tiedtke\, the driving force behind the Bach Festival Society for over 50 years\, in his own words. A partnership with the Bach Festival Society. 2/16/2019 1:30pm - 2:30pm 2/17/2019 1:30pm - 2:30pm
X-ALT-DESC;FMTTYPE=text/html:Relax and celebrate the history of the Bach Festival by hearing the story of John Tiedtke\, the driving force behind the Bach Festival Society for over 50 years\, in his own words. A partnership with the Bach Festival Society. 2/16/2019 1:30pm - 2:30pm 2/17/2019 1:30pm - 2:30pm
LOCATION:Winter Park Public Library 460 E. New England Ave. Winter Park\, FL 32789
UID:e.3221.5036080
SEQUENCE:3
DTSTAMP:20260422T001028Z
URL:https://winterparkgzcms.preview.gochambermaster.com/events/details/voices-of-history-a-celebration-of-john-teidtke-5036080
END:VEVENT

END:VCALENDAR
