BEGIN:VCALENDAR
VERSION:2.0
PRODID:-//ChamberMaster//Event Calendar 2.0//EN
METHOD:PUBLISH
X-PUBLISHED-TTL:P3D
REFRESH-INTERVAL:P3D
CALSCALE:GREGORIAN
BEGIN:VEVENT
DTSTART:20201027T220000Z
DTEND:20201027T230000Z
X-MICROSOFT-CDO-ALLDAYEVENT:FALSE
SUMMARY:VIRTUAL ARTIST TALK: Marcus Jansen: E Pluribus Unum
DESCRIPTION:Join artist Marcus Jansen and CFAM Curator Gisela Carbonell for an in-depth conversation about the artist's trajectory and the powerful messages in the works included in this exhibition. Click link to join this virtual event and use the password CFAM
X-ALT-DESC;FMTTYPE=text/html:Join artist Marcus Jansen and CFAM Curator Gisela Carbonell for an in-depth conversation about the artist&#39\;s trajectory and the powerful messages in the works included in this exhibition. Click link to join this virtual event and use the password CFAM
LOCATION:Virtual Talk
UID:e.3221.5041414
SEQUENCE:3
DTSTAMP:20260420T100629Z
URL:https://winterparkgzcms.preview.gochambermaster.com/events/details/virtual-artist-talk-marcus-jansen-e-pluribus-unum-5041414
END:VEVENT

END:VCALENDAR
