BEGIN:VCALENDAR
VERSION:2.0
PRODID:-//ChamberMaster//Event Calendar 2.0//EN
METHOD:PUBLISH
X-PUBLISHED-TTL:P3D
REFRESH-INTERVAL:P3D
CALSCALE:GREGORIAN
BEGIN:VEVENT
DTSTART:20200208T003000Z
DTEND:20200208T023000Z
X-MICROSOFT-CDO-ALLDAYEVENT:FALSE
SUMMARY:The Girl of the Golden West
DESCRIPTION:The Girl of the Golden West is none other than the saloon owner herself\, Minnie\, played by internationally acclaimed soprano Amy Cofield\, who gets mixed up with a renegade tenor Dick Johnson played by Ben Gulley\, last seen as Rodolfo in Opera Orlando's critically acclaimed production of La Boh me. This site-specific production will be directed by Alan Bruun with music direction by Opera Orlando's own Robin Jensen.\n\nThe audience will be a part of the action\, transported to the Wild West in the iconic setting of the Cheyenne Saloon and the Ceviche Ballroom. Specialty cocktails\, appetizers\, and desserts will add to the evening with cash bars also available.
X-ALT-DESC;FMTTYPE=text/html:<p><strong><em>The Girl of the Golden West</em></strong> is none other than the saloon owner herself\, Minnie\, played by internationally acclaimed soprano <strong>Amy Cofield</strong>\, who gets mixed up with a renegade tenor Dick Johnson played by <strong>Ben Gulley</strong>\, last seen as Rodolfo in<strong> Opera Orlando</strong>&rsquo\;s critically acclaimed production of&nbsp\;<em>La Boh&egrave\;me</em>. This site-specific production will be directed by <strong>Alan Bruun</strong> with music direction by <strong>Opera Orlando</strong>&rsquo\;s own <strong>Robin Jensen</strong>.</p>\n\n<p>The audience will be a part of the action\, transported to the Wild West in the iconic setting of the <strong>Cheyenne Saloon</strong> and the <strong>Ceviche Ballroom</strong>. Specialty cocktails\, appetizers\, and desserts will add to the evening with cash bars also available.</p>\n
LOCATION:Cheyenne Saloon & Cerviche Ballroom 125 W Church St Orlando\, FL 32801
UID:e.3221.5039409
SEQUENCE:3
DTSTAMP:20260421T053549Z
URL:https://winterparkgzcms.preview.gochambermaster.com/events/details/the-girl-of-the-golden-west-5039409
END:VEVENT

END:VCALENDAR
