BEGIN:VCALENDAR
VERSION:2.0
PRODID:-//ChamberMaster//Event Calendar 2.0//EN
METHOD:PUBLISH
X-PUBLISHED-TTL:P3D
REFRESH-INTERVAL:P3D
CALSCALE:GREGORIAN
BEGIN:VEVENT
DTSTART:20251120T220000Z
DTEND:20251121T010000Z
X-MICROSOFT-CDO-ALLDAYEVENT:FALSE
SUMMARY:Taste of the Holidays at The Good Pour Winter Park
DESCRIPTION:Kick off the holiday season at our signature tasting event\, Taste of the Holidays! Explore more than 50 wines\, beers and spirits while enjoying light bites\, live music and festive fun. It's the perfect time to shop for gift baskets and stock up for Thanksgiving. Plus\, each ticket includes a $10 credit to shop that night. With crowd-pleasing favorites\, premium bottles and a one-stop Gift Bar\, The Good Pour is your destination for holiday wine\, spirits and gifts!\n\n \n\nThe Good Pour Winter Park\n\nThursday\, November 20   5-8PM\n\n \n\nTaste of the Holidays features:\n\n  50+ wine\, beer and spirits from around the world\n\n  Live music\n\n  Light bites\n\n  Special savings\, including $10 off your purchase the night of the event*\n\n  Personalized gifts at the Gift Bar\n\n  Bottle engraving
X-ALT-DESC;FMTTYPE=text/html:Kick off the holiday season at our signature tasting event\,&nbsp\;<strong>Taste of the Holidays!</strong>&nbsp\;Explore more than 50 wines\, beers and spirits while enjoying light bites\, live music and festive fun. It&rsquo\;s the perfect time to shop for gift baskets and stock up for Thanksgiving. Plus\, each ticket includes a&nbsp\;<strong>$10 credit to shop that night</strong>. With crowd-pleasing favorites\, premium bottles and a one-stop Gift Bar\, The Good Pour is your destination for holiday wine\, spirits and gifts!<br />\n&nbsp\;<br />\nThe Good Pour Winter Park<br />\nThursday\, November 20 &bull\; 5-8PM<br />\n&nbsp\;<br />\nTaste of the Holidays features:<br />\n&bull\; 50+ wine\, beer and spirits from around the world<br />\n&bull\; Live music<br />\n&bull\; Light bites<br />\n&bull\; Special savings\, including&nbsp\;$10 off your purchase the night of the event*<br />\n&bull\; Personalized gifts at the Gift Bar<br />\n&bull\; Bottle engraving<br />\n&nbsp\;
LOCATION:The Good Pour Winter Park 631 S. Orlando Avenue\, Suite 101 Winter Park\, FL 32789
UID:e.3221.5056592
SEQUENCE:3
DTSTAMP:20260425T013046Z
URL:https://winterparkgzcms.preview.gochambermaster.com/events/details/taste-of-the-holidays-at-the-good-pour-winter-park-5056592
END:VEVENT

END:VCALENDAR
