BEGIN:VCALENDAR
VERSION:2.0
PRODID:-//ChamberMaster//Event Calendar 2.0//EN
METHOD:PUBLISH
X-PUBLISHED-TTL:P3D
REFRESH-INTERVAL:P3D
CALSCALE:GREGORIAN
BEGIN:VEVENT
DTSTART:20190731T200000Z
DTEND:20190731T210000Z
X-MICROSOFT-CDO-ALLDAYEVENT:FALSE
SUMMARY:Step Up To Kindergarten
DESCRIPTION:Entering Kindergarteners - Get those pre-kindergarten jitters out by boarding a OCPS school bus and listening to funny school stories. Each child will receive Pete The Cat's Super Cool Reading Collection. Enrollment is required\, and seating is limited. Sign up at www.wppl.org or call 407-623-3300\, ext. 4. Please arrive 10 mins. early to check in. If you are unable to attend\, please call to cancel your child's reservation in advance of the class so that someone else may attend.
X-ALT-DESC;FMTTYPE=text/html:Entering Kindergarteners - Get those pre-kindergarten jitters out by boarding a OCPS school bus and listening to funny school stories. Each child will receive Pete The Cat&#39\;s Super Cool Reading Collection. Enrollment is required\, and seating is limited. Sign up at www.wppl.org or call 407-623-3300\, ext. 4. Please arrive 10 mins. early to check in. If you are unable to attend\, please call to cancel your child&#39\;s reservation in advance of the class so that someone else may attend.
LOCATION:Winter Park Public Library\, 460 E. New England Ave.\, Winter Park\, FL 32789
UID:e.3221.5038000
SEQUENCE:3
DTSTAMP:20260421T161131Z
URL:https://winterparkgzcms.preview.gochambermaster.com/events/details/step-up-to-kindergarten-5038000
END:VEVENT

END:VCALENDAR
