BEGIN:VCALENDAR
VERSION:2.0
PRODID:-//ChamberMaster//Event Calendar 2.0//EN
METHOD:PUBLISH
X-PUBLISHED-TTL:P3D
REFRESH-INTERVAL:P3D
CALSCALE:GREGORIAN
BEGIN:VEVENT
DTSTART:20201213T183000Z
DTEND:20201213T210000Z
X-MICROSOFT-CDO-ALLDAYEVENT:FALSE
SUMMARY:Spirit of the Season: A Voctave Symphonic Christmas
DESCRIPTION:The Bach Festival Society of Winter Park returns for the holiday season with a special guest at the Central Park West Meadow on Sunday\, December 13 at 1:30 p.m. and 4:00 p.m. Rollins College ensemble-in-residence and renowned vocal group Voctave presents the performance debut of the group's newly released Christmas album\, Voctave Symphony Series: Christmas Edition\, accompanied by the Bach Festival Orchestra conducted by John V. Sinclair.\n\n\n\nRegister Here
X-ALT-DESC;FMTTYPE=text/html:The Bach Festival Society of Winter Park returns for the holiday season with a special guest at the Central Park West Meadow on Sunday\, December 13 at 1:30 p.m. and 4:00 p.m. Rollins College ensemble-in-residence and renowned vocal group Voctave presents the performance debut of the group&rsquo\;s newly released Christmas album\, Voctave Symphony Series: Christmas Edition\, accompanied by the Bach Festival Orchestra conducted by John V. Sinclair.<br />\n<br />\n<a href="https://www.bachfestivalflorida.org/christmas"><u><strong>Register Here</strong></u></a>
LOCATION:Central Park West Meadow 150 West Morse Boulevard\, Winter Park\, FL\, 32789
UID:e.3221.5041521
SEQUENCE:3
DTSTAMP:20260420T070754Z
URL:https://winterparkgzcms.preview.gochambermaster.com/events/details/spirit-of-the-season-a-voctave-symphonic-christmas-5041521
END:VEVENT

END:VCALENDAR
