BEGIN:VCALENDAR
VERSION:2.0
PRODID:-//ChamberMaster//Event Calendar 2.0//EN
METHOD:PUBLISH
X-PUBLISHED-TTL:P3D
REFRESH-INTERVAL:P3D
CALSCALE:GREGORIAN
BEGIN:VEVENT
DTSTART:20201206T180000Z
DTEND:20201206T210000Z
X-MICROSOFT-CDO-ALLDAYEVENT:FALSE
SUMMARY:Special Sunday Hours
DESCRIPTION:Celebrate the holidays by spending time with family and friends at the Morse Museum! Appointments have been expanded to include Sundays from 1 to 4 p.m. beginning Sunday\, November 29 through Sunday\, December 27.\n\n\n\nAppointments must be made in advance and are available\, space permitting\, from 1 to 4 p.m. on Sundays. Please visit admissions.morsemuseum.org/mainstore to make an appointment.
X-ALT-DESC;FMTTYPE=text/html:Celebrate the holidays by spending time with family and friends at the Morse Museum! Appointments have been expanded to include Sundays from 1 to 4 p.m. beginning Sunday\, November 29 through Sunday\, December 27.<br />\n<br />\nAppointments must be made in advance and are available\, space permitting\, from 1 to 4 p.m. on Sundays. Please visit&nbsp\;<a href="https://admissions.morsemuseum.org/mainstore">admissions.morsemuseum.org/mainstore</a>&nbsp\;to make an appointment.
LOCATION:The Charles Hosmer Morse Museum of American Art 445 N. Park Ave. Winter Park\, FL 32789
UID:e.3221.5041399
SEQUENCE:3
DTSTAMP:20260420T065600Z
URL:https://winterparkgzcms.preview.gochambermaster.com/events/details/special-sunday-hours-12-06-2020-5041399
END:VEVENT

END:VCALENDAR
