BEGIN:VCALENDAR
VERSION:2.0
PRODID:-//ChamberMaster//Event Calendar 2.0//EN
METHOD:PUBLISH
X-PUBLISHED-TTL:P3D
REFRESH-INTERVAL:P3D
CALSCALE:GREGORIAN
BEGIN:VEVENT
DTSTART:20180329T120000Z
DTEND:20180329T140000Z
X-MICROSOFT-CDO-ALLDAYEVENT:FALSE
SUMMARY:SCORE: The Power of the Inbox
DESCRIPTION:
X-ALT-DESC;FMTTYPE=text/html:
LOCATION:NEC at the Orlando Fashion Square Mall
UID:e.3221.5035160
SEQUENCE:3
DTSTAMP:20260423T104212Z
URL:https://winterparkgzcms.preview.gochambermaster.com/events/details/score-the-power-of-the-inbox-5035160
END:VEVENT

END:VCALENDAR
