BEGIN:VCALENDAR
VERSION:2.0
PRODID:-//ChamberMaster//Event Calendar 2.0//EN
METHOD:PUBLISH
X-PUBLISHED-TTL:P3D
REFRESH-INTERVAL:P3D
CALSCALE:GREGORIAN
BEGIN:VEVENT
DTSTART:20200716T120000Z
DTEND:20200716T133000Z
X-MICROSOFT-CDO-ALLDAYEVENT:FALSE
SUMMARY:SCORE: Seven Steps to Cash Flow Mastery
DESCRIPTION:The old adage 'Cash is King' still holds true\,even in today's uncertain and ever changing marketplace. More than ever\, cash flow mastery is essential to the future trajectory of your business. Attend this seminar and get ready to receive a very concise look of how the financial world views the value of cash flow.
X-ALT-DESC;FMTTYPE=text/html:The old adage &lsquo\;Cash is King&rsquo\; still holds true\,even in today&rsquo\;s uncertain and ever changing marketplace. More than ever\, cash flow mastery is essential to the future trajectory of your business. Attend this seminar and get ready to receive a very concise look of how the financial world views the value of cash flow.
LOCATION:ONLINE
UID:e.3221.5041087
SEQUENCE:3
DTSTAMP:20260420T192607Z
URL:https://winterparkgzcms.preview.gochambermaster.com/events/details/score-seven-steps-to-cash-flow-mastery-5041087
END:VEVENT

END:VCALENDAR
