BEGIN:VCALENDAR
VERSION:2.0
PRODID:-//ChamberMaster//Event Calendar 2.0//EN
METHOD:PUBLISH
X-PUBLISHED-TTL:P3D
REFRESH-INTERVAL:P3D
CALSCALE:GREGORIAN
BEGIN:VEVENT
DTSTART:20200115T230000Z
DTEND:20200116T020000Z
X-MICROSOFT-CDO-ALLDAYEVENT:FALSE
SUMMARY:SCORE Orlando: You\, Your Business\, How SCORE Can Help
DESCRIPTION:This course is for people who have limited knowledge about managing or starting a new business and/or are not familiar with SCORE's services. It is designed to explain the challenges and risks that an entrepreneur will face. It covers reasons why so many businesses fail as well as the keys to succeeding. You learn about the seminar programs and mentoring. FREE. Online registration required.
X-ALT-DESC;FMTTYPE=text/html:This course is for people who have limited knowledge about managing or starting a new business and/or are not familiar with SCORE&rsquo\;s services. It is designed to explain the challenges and risks that an entrepreneur will face. It covers reasons why so many businesses fail as well as the keys to succeeding. You learn about the seminar programs and mentoring. FREE. Online registration required.
LOCATION:National Entrepreneur Center 3201 East Colonial Dr\, A-20 Orlando\, Florida 32803
UID:e.3221.5039420
SEQUENCE:3
DTSTAMP:20260421T053438Z
URL:https://winterparkgzcms.preview.gochambermaster.com/events/details/score-orlando-you-your-business-how-score-can-help-5039420
END:VEVENT

END:VCALENDAR
