BEGIN:VCALENDAR
VERSION:2.0
PRODID:-//ChamberMaster//Event Calendar 2.0//EN
METHOD:PUBLISH
X-PUBLISHED-TTL:P3D
REFRESH-INTERVAL:P3D
CALSCALE:GREGORIAN
BEGIN:VEVENT
DTSTART:20190919T220000Z
DTEND:20190920T000000Z
X-MICROSOFT-CDO-ALLDAYEVENT:FALSE
SUMMARY:SCORE Orlando: The Power of Video Marketing
DESCRIPTION:The power of video marketing is no longer easy to overlook. Businesses that use video are providing their audience with an easy way to consume information and show off their business. Next to in-person interactions\, there's no better way for your audience to get to know your expertise or personality.
X-ALT-DESC;FMTTYPE=text/html:The power of video marketing is no longer easy to overlook. Businesses that use video are providing their audience with an easy way to consume information and show off their business. Next to in-person interactions\, there&rsquo\;s no better way for your audience to get to know your expertise or personality.
LOCATION:National Entrepreneur Center at the Orlando Fashion Square Mall
UID:e.3221.5037995
SEQUENCE:3
DTSTAMP:20260421T184928Z
URL:https://winterparkgzcms.preview.gochambermaster.com/events/details/score-orlando-the-power-of-video-marketing-09-19-2019-5037995
END:VEVENT

END:VCALENDAR
