BEGIN:VCALENDAR
VERSION:2.0
PRODID:-//ChamberMaster//Event Calendar 2.0//EN
METHOD:PUBLISH
X-PUBLISHED-TTL:P3D
REFRESH-INTERVAL:P3D
CALSCALE:GREGORIAN
BEGIN:VEVENT
DTSTART:20190606T220000Z
DTEND:20190607T000000Z
X-MICROSOFT-CDO-ALLDAYEVENT:FALSE
SUMMARY:SCORE Orlando: Supercharging Facebook & Email Marketing
DESCRIPTION:Finding innovative\, cost-effective ways to stay ahead of competition is always on a business owner's mind. You want to get maximum exposure out of your marketing efforts without breaking your budget. Learn how to integrate email marketing's great ROI with one of the most powerful social media tools ever\, Facebook\, at this seminar!
X-ALT-DESC;FMTTYPE=text/html:Finding innovative\, cost-effective ways to stay ahead of competition is always on a business owner&rsquo\;s mind. You want to get maximum exposure out of your marketing efforts without breaking your budget. Learn how to integrate email marketing&rsquo\;s great ROI with one of the most powerful social media tools ever\, Facebook\, at this seminar!
LOCATION:National Entrepreneur Center at the Orlando Fashion Square Mall
UID:e.3221.5037875
SEQUENCE:3
DTSTAMP:20260421T191433Z
URL:https://winterparkgzcms.preview.gochambermaster.com/events/details/score-orlando-supercharging-facebook-email-marketing-06-06-2019-5037875
END:VEVENT

END:VCALENDAR
