BEGIN:VCALENDAR
VERSION:2.0
PRODID:-//ChamberMaster//Event Calendar 2.0//EN
METHOD:PUBLISH
X-PUBLISHED-TTL:P3D
REFRESH-INTERVAL:P3D
CALSCALE:GREGORIAN
BEGIN:VEVENT
DTSTART:20201003T133000Z
DTEND:20201003T163000Z
X-MICROSOFT-CDO-ALLDAYEVENT:FALSE
SUMMARY:SCORE: Building Your Business Plan
DESCRIPTION:Designed for anyone who has done their business research\, most of their marketing plan\, and understands some basic accounting and finance. It explains the purposes and value of a plan and uses a content template to help determine what goes into each section of this plan.
X-ALT-DESC;FMTTYPE=text/html:Designed for anyone who has done their business research\, most of their marketing plan\, and understands some basic accounting and finance. It explains the purposes and value of a plan and uses a content template to help determine what goes into each section of this plan.
LOCATION:Online
UID:e.3221.5041352
SEQUENCE:3
DTSTAMP:20260420T164244Z
URL:https://winterparkgzcms.preview.gochambermaster.com/events/details/score-building-your-business-plan-10-03-2020-5041352
END:VEVENT

END:VCALENDAR
