BEGIN:VCALENDAR
VERSION:2.0
PRODID:-//ChamberMaster//Event Calendar 2.0//EN
METHOD:PUBLISH
X-PUBLISHED-TTL:P3D
REFRESH-INTERVAL:P3D
CALSCALE:GREGORIAN
BEGIN:VEVENT
DTSTART:20200226T003000Z
DTEND:20200226T023000Z
X-MICROSOFT-CDO-ALLDAYEVENT:FALSE
SUMMARY:Quink Vocal Ensemble
DESCRIPTION:"How do you spell vocal excellence? Many would say it should be 'Quink.'" (Seattle Times) This remarkable group of multifaceted Dutch musicians has evolved into a unique ensemble with international appeal by dedicating themselves to performing diverse a cappella repertoire in the most authentic way possible.
X-ALT-DESC;FMTTYPE=text/html:<span style="font-size:14px"><span style="font-family:arial">&ldquo\;How do you spell vocal excellence? Many would say it should be &#39\;Quink.&#39\;&rdquo\; (</span><em>Seattle Times</em><span style="font-family:arial">) This remarkable group of multifaceted Dutch musicians has evolved into a unique ensemble with international appeal by dedicating themselves to performing diverse </span><em>a cappella</em><span style="font-family:arial"> repertoire in the most authentic way possible.</span></span>
LOCATION:The Tiedtke Concert Hall in Winter Park. 1000 Holt Avenue\, Winter Park\, Florida 32789.
UID:e.3221.5037927
SEQUENCE:3
DTSTAMP:20260421T053103Z
URL:https://winterparkgzcms.preview.gochambermaster.com/events/details/quink-vocal-ensemble-5037927
END:VEVENT

END:VCALENDAR
