BEGIN:VCALENDAR
VERSION:2.0
PRODID:-//ChamberMaster//Event Calendar 2.0//EN
METHOD:PUBLISH
X-PUBLISHED-TTL:P3D
REFRESH-INTERVAL:P3D
CALSCALE:GREGORIAN
BEGIN:VEVENT
DTSTART:20190905T150000Z
DTEND:20190905T163000Z
X-MICROSOFT-CDO-ALLDAYEVENT:FALSE
SUMMARY:Play Reading
DESCRIPTION:Scripts are provided at the meetings. No experience necessary. Note new time and new dates: first and fourth Thursdays. All are welcome.
X-ALT-DESC;FMTTYPE=text/html:Scripts are provided at the meetings. No experience necessary. Note new time and new dates: first and fourth Thursdays. All are welcome.
LOCATION:The University Club of Winter Park 841 North Park Ave. Winter Park\, FL 32789
UID:e.3221.5038045
SEQUENCE:3
DTSTAMP:20260421T205024Z
URL:https://winterparkgzcms.preview.gochambermaster.com/events/details/play-reading-5038045
END:VEVENT

END:VCALENDAR
