BEGIN:VCALENDAR
VERSION:2.0
PRODID:-//ChamberMaster//Event Calendar 2.0//EN
METHOD:PUBLISH
X-PUBLISHED-TTL:P3D
REFRESH-INTERVAL:P3D
CALSCALE:GREGORIAN
BEGIN:VEVENT
DTSTART:20190207T140000Z
DTEND:20190207T170000Z
X-MICROSOFT-CDO-ALLDAYEVENT:FALSE
SUMMARY:Personal Branding & Visibility Masterclass for Women Business Owners
DESCRIPTION:Central Florida women business owners\, join Diane Diaz of The Brand Teacher and Carol Cox of Speaking Your Brand for an in-person masterclass to develop your personal brand story and visibility roadmap.\n\nThis hands-on 3-hour workshop will help you show up in the right places with the right message to attract your ideal clients.\n\n\n\nLearn How to Attract Your Ideal Clients with Your Powerful\, Visible Personal Brand and Speaking Strategy\n\n\n	Do people understand what you do\, who you do it for\, and how you help them?\n	Are you showing up in the right places with the right message to attract your ideal clients?\n	Do you feel like the message you're sharing is not clear or connected?\n\nIn today's busy and noisy world\, your presence\, both online and offline\, can make the difference between being seen and being passed by.\n\n\nIn this interactive\, hands-on workshop\, you'll:\n\n\n	Write your personal mission statement / elevator pitch\n	Determine specific areas you can work on immediately to build greater consistency and visibility for your brand across platforms and in person\n	Create your own visibility roadmap so you can achieve your business and speaking goals\n	Discover your unique speaking topic and the best groups\, conferences\, and podcasts to speak at\n	Develop your pitch for speaking engagements and podcast interviews\n\n\nThis workshop is for women business owners who:\n\n\n	have been in business for at least 2 years\n	are having a hard time telling your story across platforms\n	recognize the value of being more visible\, both online and offline\n	feel there's a disconnection between how people see you and how you want to be seen/what you want to be known for\n	want to hone your skills to make talking about what you do and who you do it for easier\n	are interested in becoming a better speaker and interview guest?\n\n\n\n\nRegister today to reserve your seat: \n\nhttps://visibilitymasterclass.eventbrite.com/?aff=dd\n\nDate: Thursday\, February 7\, 2019\, 9 am - 12 noon\n\nLocation: Oviedo studios of Tamara Knight Photography located at 220 Geneva Dr\, Oviedo\, FL 32765 (a delightful place to hold a workshop: intimate and lots of parking!)\n\nQuestions? Feel free to email diane@thebrandteacher.com.
X-ALT-DESC;FMTTYPE=text/html:<p>Central Florida women business owners\, join <a href="https://www.linkedin.com/in/dianediaz/">Diane Diaz </a>of <a href="https://www.thebrandteacher.com/">The Brand Teacher</a> and&nbsp\;<a class="profileLink" href="https://www.linkedin.com/in/carolcox/" style="color: rgb(54\, 88\, 153)\; cursor: pointer\; text-decoration-line: none\; font-family: inherit\;">Carol Cox</a>&nbsp\;of&nbsp\;<a class="profileLink" href="https://www.speakingyourbrand.com/" style="color: rgb(54\, 88\, 153)\; cursor: pointer\; text-decoration-line: none\; font-family: inherit\;">Speaking Your Brand</a>&nbsp\;for an in-person masterclass to develop your personal brand story and visibility roadmap.</p>\n\n<p>This hands-on 3-hour workshop will help you show up in the right places with the right message to attract your ideal clients.<br />\n<br />\n<span style="font-size:20px"><strong>Learn How to Attract Your Ideal Clients with Your Powerful\, Visible Personal Brand and Speaking Strategy</strong></span></p>\n\n<ul>\n	<li>Do people understand <strong>what </strong>you do\, <strong>who</strong> you do it for\, and <strong>how</strong> you help them?</li>\n	<li>Are you showing up in the&nbsp\;<strong><em>right</em>&nbsp\;places</strong> with the&nbsp\;<strong><em>right</em>&nbsp\;message</strong> to attract your ideal clients?</li>\n	<li>Do you feel like the message you&rsquo\;re sharing is not <strong>clear or connected</strong>?</li>\n</ul>\nIn today&rsquo\;s busy and noisy world\, your presence\, both online and offline\, can make the difference between being seen and being passed by.\n\n<div>\n<h2>In this&nbsp\;interactive\, hands-on&nbsp\;workshop\, you&rsquo\;ll:</h2>\n\n<ul>\n	<li>Write&nbsp\;<strong>your personal mission statement</strong>&nbsp\;/ elevator pitch</li>\n	<li>Determine&nbsp\;<strong>specific areas</strong>&nbsp\;you can work on immediately to build greater&nbsp\;<strong>consistency</strong>&nbsp\;and&nbsp\;<strong>visibility</strong>&nbsp\;for your brand across platforms and in person</li>\n	<li>Create your own&nbsp\;<strong>visibility roadmap</strong>&nbsp\;so you can achieve your business and speaking goals</li>\n	<li>Discover&nbsp\;<strong>your unique speaking topic</strong>&nbsp\;and the&nbsp\;best groups\, conferences\, and podcasts to speak at</li>\n	<li><strong>Develop your pitch</strong>&nbsp\;for speaking engagements and podcast interviews</li>\n</ul>\n\n<p><span style="font-size:20px">This workshop is for women business owners who:</span></p>\n\n<ul>\n	<li>have been in&nbsp\;business for at least 2 years</li>\n	<li>are having a hard time&nbsp\;<strong>telling your story</strong>&nbsp\;across platforms</li>\n	<li>recognize the value of being&nbsp\;<strong>more&nbsp\;</strong><strong>visible\, both online and offline</strong></li>\n	<li><strong>feel there&rsquo\;s a disconnection between how people see you and how you want to be seen/what you want to be known for</strong></li>\n	<li><strong>want to&nbsp\;<strong>hone your skills</strong>&nbsp\;to make talking about what you do and who you do it for easier</strong></li>\n	<li><strong>are interested in becoming a better&nbsp\;speaker&nbsp\;and interview guest<strong><strong>?</strong></strong></strong></li>\n</ul>\n\n<p><br />\n<strong><span style="font-size:20px">Register today to reserve your seat:&nbsp\;</span></strong><br />\n<a href="https://visibilitymasterclass.eventbrite.com/?aff=dd&amp\;fbclid=IwAR19k-gzJT5-9sBbBjQ988GxFqH2z4yda5ET14gKcPg27b31sG7lu1lILdY" rel="noopener nofollow" style="color: rgb(54\, 88\, 153)\; cursor: pointer\; text-decoration-line: none\; font-family: inherit\;" target="_blank">https://visibilitymasterclass.eventbrite.com/?aff=dd</a></p>\n\n<p><strong>Date: </strong>Thursday\, February 7\, 2019\, 9 am - 12 noon</p>\n\n<p><strong>Location:</strong> Oviedo studios of&nbsp\;Tamara Knight Photography located at&nbsp\;<span style="color:rgb(34\, 34\, 34)\; font-family:roboto\,arial\,sans-serif\; font-size:small">220 Geneva Dr\, Oviedo\, FL 32765&nbsp\;</span>(a delightful place to hold a workshop: intimate and lots of parking!)</p>\n\n<p><strong>Questions?</strong> Feel free to email diane@thebrandteacher.com.</p>\n</div>\n
LOCATION:Tamara Knight Photography Studio 220 Geneva Dr Oviedo\, FL 32765
UID:e.3221.5035970
SEQUENCE:3
DTSTAMP:20260422T015944Z
URL:https://winterparkgzcms.preview.gochambermaster.com/events/details/personal-branding-visibility-masterclass-for-women-business-owners-5035970
END:VEVENT

END:VCALENDAR
