BEGIN:VCALENDAR
VERSION:2.0
PRODID:-//ChamberMaster//Event Calendar 2.0//EN
METHOD:PUBLISH
X-PUBLISHED-TTL:P3D
REFRESH-INTERVAL:P3D
CALSCALE:GREGORIAN
BEGIN:VEVENT
DTSTART:20200118T123000Z
DTEND:20200118T140000Z
X-MICROSOFT-CDO-ALLDAYEVENT:FALSE
SUMMARY:Park Ave 5k Presented by AdventHealth
DESCRIPTION:Get a healthy start to the New Year by participating in the 4th race of the Track Shack Running Series through beautiful Winter Park. Then indulge a little with an after party that features food from local favorites. Event Highlights   Experience the Taste   Finisher Medal   Gender Specific Shirt   Access to AdventHealth Experts   FREE AdventHealth for Children Kids' Run   B-Tag Timed
X-ALT-DESC;FMTTYPE=text/html:Get a healthy start to the New Year by participating in the 4th race of the Track Shack Running Series through beautiful Winter Park. Then indulge a little with an after party that features food from local favorites. Event Highlights &bull\; Experience the Taste &bull\; Finisher Medal &bull\; Gender Specific Shirt &bull\; Access to AdventHealth Experts &bull\; FREE AdventHealth for Children Kids&#39\; Run &bull\; B-Tag Timed
LOCATION:Stage at Central Park 251 N. Park Ave. Winter Park\, FL 32789 (Corner of Garfield Ave and Park Avenue)
UID:e.3221.5039393
SEQUENCE:3
DTSTAMP:20260421T053408Z
URL:https://winterparkgzcms.preview.gochambermaster.com/events/details/park-ave-5k-presented-by-adventhealth-5039393
END:VEVENT

END:VCALENDAR
