BEGIN:VCALENDAR
VERSION:2.0
PRODID:-//ChamberMaster//Event Calendar 2.0//EN
METHOD:PUBLISH
X-PUBLISHED-TTL:P3D
REFRESH-INTERVAL:P3D
CALSCALE:GREGORIAN
BEGIN:VEVENT
DTSTART:20170914T210000Z
DTEND:20170915T000000Z
X-MICROSOFT-CDO-ALLDAYEVENT:FALSE
SUMMARY:[No Name] - Sep 14 2017 5:00PM
DESCRIPTION:
X-ALT-DESC;FMTTYPE=text/html:
LOCATION:On Park Avenue
UID:e.3221.55089
SEQUENCE:3
DTSTAMP:20260423T171042Z
URL:https://winterparkgzcms.preview.gochambermaster.com/events/details/no-name-sep-14-2017-5-00pm-09-14-2017-55089
END:VEVENT

END:VCALENDAR
