BEGIN:VCALENDAR
VERSION:2.0
PRODID:-//ChamberMaster//Event Calendar 2.0//EN
METHOD:PUBLISH
X-PUBLISHED-TTL:P3D
REFRESH-INTERVAL:P3D
CALSCALE:GREGORIAN
BEGIN:VEVENT
DTSTART:20170605T153000Z
DTEND:20170605T170000Z
X-MICROSOFT-CDO-ALLDAYEVENT:FALSE
SUMMARY:[No Name] - Jun 5 2017 11:30AM
DESCRIPTION:
X-ALT-DESC;FMTTYPE=text/html:
LOCATION:
UID:e.3221.54943
SEQUENCE:3
DTSTAMP:20260423T231120Z
URL:https://winterparkgzcms.preview.gochambermaster.com/events/details/no-name-jun-5-2017-11-30am-06-05-2017-54943
END:VEVENT

END:VCALENDAR
