BEGIN:VCALENDAR
VERSION:2.0
PRODID:-//ChamberMaster//Event Calendar 2.0//EN
METHOD:PUBLISH
X-PUBLISHED-TTL:P3D
REFRESH-INTERVAL:P3D
CALSCALE:GREGORIAN
BEGIN:VEVENT
DTSTART:20200215T230000Z
DTEND:20200216T010000Z
X-MICROSOFT-CDO-ALLDAYEVENT:FALSE
SUMMARY:Make-A-Wish Partial Proceeds Shopping Event
DESCRIPTION:Come join Chi Omega of UCF to enjoy new arrivals\, sips\, snacks and the chance to shop for a cause! 20% of proceeds during event will be going back to Make-A-Wish!
X-ALT-DESC;FMTTYPE=text/html:Come join Chi Omega of UCF to enjoy new arrivals\, sips\, snacks and the chance to shop for a cause! 20% of proceeds during event will be going back to Make-A-Wish!
LOCATION:The Impeccable Pig 337 S. Park Ave.
UID:e.3221.5039524
SEQUENCE:3
DTSTAMP:20260421T053103Z
URL:https://winterparkgzcms.preview.gochambermaster.com/events/details/make-a-wish-partial-proceeds-shopping-event-5039524
END:VEVENT

END:VCALENDAR
