BEGIN:VCALENDAR
VERSION:2.0
PRODID:-//ChamberMaster//Event Calendar 2.0//EN
METHOD:PUBLISH
X-PUBLISHED-TTL:P3D
REFRESH-INTERVAL:P3D
CALSCALE:GREGORIAN
BEGIN:VEVENT
DTSTART:20180513T140000Z
DTEND:20180513T150000Z
X-MICROSOFT-CDO-ALLDAYEVENT:FALSE
SUMMARY:lululemon Yoga& Mother’s Day with Live Music
DESCRIPTION:Yoga& B.Y.O.M.\n\n"Bring Your Own Mom"\nThis Sunday from 10AM-11AM please join lululemon Winter Park in Central Park for a complimentary outdoor Mother's Day yoga class. This class will be led by legacy ambassador Lori Maier owner of Urban Flow Power Yoga. Lori will be accompanied by local Orlando musician Cameron Moreau on guitar and vocals. Cameron has returned to our Yoga& series by popular demand. We hope to see you there.
X-ALT-DESC;FMTTYPE=text/html:<h2 style="font-style:italic"><strong>Yoga&amp\; B.Y.O.M.<br />\n&quot\;Bring Your Own Mom&quot\;</strong></h2>\nThis Sunday from 10AM-11AM please join lululemon Winter Park in Central Park for a complimentary outdoor Mother&rsquo\;s Day yoga class. This class will be led by legacy ambassador Lori Maier owner of Urban Flow Power Yoga. Lori will be accompanied by local Orlando musician Cameron Moreau on guitar and vocals. Cameron has returned to our Yoga&amp\; series by popular demand. We hope to see you there.<br />\n&nbsp\;
LOCATION:Central Park outside of lululemon Winter Park
UID:e.3221.5035289
SEQUENCE:3
DTSTAMP:20260423T032027Z
URL:https://winterparkgzcms.preview.gochambermaster.com/events/details/lululemon-yoga-mother-s-day-with-live-music-5035289
END:VEVENT

END:VCALENDAR
