BEGIN:VCALENDAR
VERSION:2.0
PRODID:-//ChamberMaster//Event Calendar 2.0//EN
METHOD:PUBLISH
X-PUBLISHED-TTL:P3D
REFRESH-INTERVAL:P3D
CALSCALE:GREGORIAN
BEGIN:VEVENT
DTSTART:20190823T220000Z
DTEND:20190826T000000Z
X-MICROSOFT-CDO-ALLDAYEVENT:FALSE
SUMMARY:Life-Changing Personal Growth Weekend Workshop!
DESCRIPTION:Personal Power and Prosperity (P3) is an experiential personal growth workshop designed to help individuals develop emotional agility\, heal events from the past\, challenge limiting beliefs\, and create the life they most want to live.\n\n\n\nAll courses are led by specially trained mental health professionals and life coaches and supported by dozens of graduate assistants to make the experience as healing and supportive as possible. P3 builds upon the framework of Individual Psychology developed by Alfred Adler and utilizes therapeutic techniques of experiential therapy\, Cognitive Behavioral Therapy (CBT)\, and parts psychology to name a few. \n\n\n"This was the most gratifying and intuitive experience I've ever had. I learned a lot about myself and how to deal with many emotions. I truly love this program and everything it stands for. I highly recommend this for anyone and everyone! It's absolutely worth every dollar!" \n\nRachel L.\, P3 Graduate
X-ALT-DESC;FMTTYPE=text/html:<span style="color:rgb(0\, 0\, 205)\; font-family:sans-serif\,arial\,verdana\,&amp\; font-size:13px"><span style="font-family:inherit\; font-size:13px"><strong>Personal Power and Prosperity (P3) is an experiential personal growth workshop designed to help individuals develop emotional agility\, heal events from the past\, challenge limiting beliefs\, and create the life they most want to live.</strong><br />\n<br />\nAll courses are led by specially trained mental health professionals and life coaches and supported by dozens of graduate assistants to make the experience as healing and supportive as possible. P3 builds upon the framework of Individual Psychology developed by Alfred Adler and utilizes therapeutic techniques of experiential therapy\, Cognitive Behavioral Therapy (CBT)\, and parts psychology to name a few. </span></span>\n<p style="margin-left:auto\; margin-right:auto\; text-align:center"><br />\n<em>&quot\;This was the most gratifying and intuitive experience I&rsquo\;ve ever had. I learned a lot about myself and how to deal with many emotions. I truly love this program and everything it stands for. I highly recommend this for anyone and everyone! It&rsquo\;s absolutely worth every dollar!&quot\;&nbsp\;</em></p>\n\n<div style="margin-left:0px\; margin-right:0px\; text-align:center"><em><span style="background-color:transparent">Rachel L.\, P3 Graduate </span></em></div>\n
LOCATION:345 S Maitland Avenue\, Maitland\, Florida
UID:e.3221.5038018
SEQUENCE:3
DTSTAMP:20260421T173650Z
URL:https://winterparkgzcms.preview.gochambermaster.com/events/details/life-chaning-personal-growth-weekend-workshop-5038018
END:VEVENT

END:VCALENDAR
