BEGIN:VCALENDAR
VERSION:2.0
PRODID:-//ChamberMaster//Event Calendar 2.0//EN
METHOD:PUBLISH
X-PUBLISHED-TTL:P3D
REFRESH-INTERVAL:P3D
CALSCALE:GREGORIAN
BEGIN:VEVENT
DTSTART:20200226T230000Z
DTEND:20200227T003000Z
X-MICROSOFT-CDO-ALLDAYEVENT:FALSE
SUMMARY:Lecture: Jaune Quick-To-See-Smith\, A Survey of Contemporary Native Art Jaune Quick-To-See-Smith
DESCRIPTION:Join us for a special evening presentation by one of the most socially engaged contemporary artists working today. Jaune Quick-To-See-Smith will speak about the current state of the field of Native American art\, her artistic trajectory\, and the intersections between personal narratives and socio-political commentary. This presentation is in conjunction with the Cornell Fine Arts Museum's partnership with For Freedoms.
X-ALT-DESC;FMTTYPE=text/html:Join us for a special evening presentation by one of the most socially engaged contemporary artists working today. Jaune Quick-To-See-Smith will speak about the current state of the field of Native American art\, her artistic trajectory\, and the intersections between personal narratives and socio-political commentary. This presentation is in conjunction with the Cornell Fine Arts Museum&rsquo\;s partnership with For Freedoms.
LOCATION:Bush Auditorium at Rollins College
UID:e.3221.5039361
SEQUENCE:3
DTSTAMP:20260421T053549Z
URL:https://winterparkgzcms.preview.gochambermaster.com/events/details/lecture-jaune-quick-to-see-smith-a-survey-of-contemporary-native-art-jaune-quick-to-see-smith-5039361
END:VEVENT

END:VCALENDAR
