BEGIN:VCALENDAR
VERSION:2.0
PRODID:-//ChamberMaster//Event Calendar 2.0//EN
METHOD:PUBLISH
X-PUBLISHED-TTL:P3D
REFRESH-INTERVAL:P3D
CALSCALE:GREGORIAN
BEGIN:VEVENT
DTSTART:20190924T220000Z
DTEND:20190924T230000Z
X-MICROSOFT-CDO-ALLDAYEVENT:FALSE
SUMMARY:LECTURE: Immersed in Modernism: The Art and Collection of George L.K. Morris and Suzy Frelinghuysen in their House & Studio
DESCRIPTION:This lecture examines the legacy of American abstract artists George L.K. Morris and Suzy Frelinghuysen. The painting Precision Bombing by Morris\, on view in the exhibition The Place as Metaphor: Collection Conversations serves as a point of entry to consider the impact of the work by these artists in the history of American art.
X-ALT-DESC;FMTTYPE=text/html:This lecture examines the legacy of American abstract artists George L.K. Morris and Suzy Frelinghuysen. The painting Precision Bombing by Morris\, on view in the exhibition The Place as Metaphor: Collection Conversations serves as a point of entry to consider the impact of the work by these artists in the history of American art.
LOCATION:Cornell Fine Arts Museum 1000 Holt Ave Winter Park\, FL 32789
UID:e.3221.5038022
SEQUENCE:3
DTSTAMP:20260421T181802Z
URL:https://winterparkgzcms.preview.gochambermaster.com/events/details/lecture-immersed-in-modernism-the-art-and-collection-of-george-l-k-morris-and-suzy-frelinghuysen-in-their-house-studio-5038022
END:VEVENT

END:VCALENDAR
