BEGIN:VCALENDAR
VERSION:2.0
PRODID:-//ChamberMaster//Event Calendar 2.0//EN
METHOD:PUBLISH
X-PUBLISHED-TTL:P3D
REFRESH-INTERVAL:P3D
CALSCALE:GREGORIAN
BEGIN:VEVENT
DTSTART:20210210T223000Z
DTEND:20210210T233000Z
X-MICROSOFT-CDO-ALLDAYEVENT:FALSE
SUMMARY:John Hart\, author of The Unwilling In Conversation with award-winning athor\, C.J. Box
DESCRIPTION:Join St. Martin's Publishing Group authors John Hart and C. J. Box\, who will be moderating the discussion of John's new book\, The Unwilling\, on sale February 2\, 2021!
X-ALT-DESC;FMTTYPE=text/html:Join St. Martin&#39\;s Publishing Group authors John Hart and C. J. Box\, who will be moderating the discussion of John&#39\;s new book\, The Unwilling\, on sale February 2\, 2021!
LOCATION:Virtual Event
UID:e.3221.5042001
SEQUENCE:3
DTSTAMP:20260420T020115Z
URL:https://winterparkgzcms.preview.gochambermaster.com/events/details/john-hart-author-of-the-unwilling-in-conversation-with-award-winning-athor-c-j-box-5042001
END:VEVENT

END:VCALENDAR
