BEGIN:VCALENDAR
VERSION:2.0
PRODID:-//ChamberMaster//Event Calendar 2.0//EN
METHOD:PUBLISH
X-PUBLISHED-TTL:P3D
REFRESH-INTERVAL:P3D
CALSCALE:GREGORIAN
BEGIN:VEVENT
DTSTART:20210216T000000Z
DTEND:20210216T045500Z
X-MICROSOFT-CDO-ALLDAYEVENT:FALSE
SUMMARY:Hansel and Gretel ENCORE! - Online Stream
DESCRIPTION:Music by Englebert Humperdinck with a libretto by Adelheid Wette\n\nSung in English with English supertitles\n\nEnglish translation by Grant Preisser\nBring the family and enjoy the remount of Opera Orlando's holiday confectionery treat\, Engelbert Humperdinck's Hansel & Gretel. Sung in English and reduced to a kid-friendly 75 minutes\, this retelling of the Grimms fairy tale features a lush score\, charming characters\, and a delightfully villainous witch you won't want to miss. The cast features soprano Kyaunnee Richardson as the plucky and adorable Gretel with mezzo-soprano Gloria Palermo as her headstrong but lovable brother Hansel. Mezzo-soprano Robyn Rocklein is the witch and creepy purveyor of cookies\, candies\, and cakes. Opera Orlando's education director Robin Jensen conducts\, and artistic director Grant Preisser directs\, with musicians from the Orlando Philharmonic Orchestra and members of the Opera Orlando Youth Company.
X-ALT-DESC;FMTTYPE=text/html:<p><span style="background-color:rgb(255\, 255\, 255)\; font-family:roboto\,sans-serif\; font-size:11pt">Music by Englebert Humperdinck with a libretto by Adelheid Wette</span></p>\n\n<p><span style="background-color:rgb(255\, 255\, 255)\; font-family:roboto\,sans-serif\; font-size:11pt">Sung in English with English supertitles</span></p>\n\n<p><span style="background-color:rgb(255\, 255\, 255)\; font-family:roboto\,sans-serif\; font-size:11pt">English translation by Grant Preisser</span></p>\n<span style="background-color:rgb(255\, 255\, 255)\; color:rgb(38\, 38\, 38)\; font-family:roboto\,sans-serif\; font-size:11pt">Bring the family and enjoy the remount of Opera Orlando&rsquo\;s holiday confectionery treat\, Engelbert Humperdinck&rsquo\;s </span><em>Hansel &amp\; Gretel</em><span style="background-color:rgb(255\, 255\, 255)\; color:rgb(38\, 38\, 38)\; font-family:roboto\,sans-serif\; font-size:11pt">. Sung in English and reduced to a kid-friendly 75 minutes\, this retelling of the Grimms fairy tale features a lush score\, charming characters\, and a delightfully villainous witch you won&rsquo\;t want to miss. The cast features soprano Kyaunnee Richardson as the plucky and adorable Gretel with mezzo-soprano Gloria Palermo as her headstrong but lovable brother Hansel. Mezzo-soprano Robyn Rocklein is the witch and creepy purveyor of cookies\, candies\, and cakes. Opera Orlando&rsquo\;s education director Robin Jensen conducts\, and artistic director Grant Preisser directs\, with musicians from the</span><a href="https://orlandophil.org/" style="text-decoration-line: none\;"><span style="background-color:rgb(255\, 255\, 255)\; color:rgb(38\, 38\, 38)\; font-family:roboto\,sans-serif\; font-size:11pt"> </span><span style="background-color:rgb(255\, 255\, 255)\; color:rgb(56\, 101\, 224)\; font-family:roboto\,sans-serif\; font-size:11pt">Orlando Philharmonic Orchestra</span></a><span style="background-color:rgb(255\, 255\, 255)\; color:rgb(38\, 38\, 38)\; font-family:roboto\,sans-serif\; font-size:11pt"> and members of the</span><a href="https://operaorlando.org/youth" style="text-decoration-line: none\;"><span style="background-color:rgb(255\, 255\, 255)\; color:rgb(38\, 38\, 38)\; font-family:roboto\,sans-serif\; font-size:11pt"> </span><span style="background-color:rgb(255\, 255\, 255)\; color:rgb(56\, 101\, 224)\; font-family:roboto\,sans-serif\; font-size:11pt">Opera Orlando Youth Company</span></a><span style="background-color:rgb(255\, 255\, 255)\; color:rgb(38\, 38\, 38)\; font-family:roboto\,sans-serif\; font-size:11pt">. </span>
LOCATION:Online- Virtual Event
UID:e.3221.5042362
SEQUENCE:3
DTSTAMP:20260420T033924Z
URL:https://winterparkgzcms.preview.gochambermaster.com/events/details/hansel-and-gretel-encore-online-stream-02-15-2021-5042362
END:VEVENT

END:VCALENDAR
