BEGIN:VCALENDAR
VERSION:2.0
PRODID:-//ChamberMaster//Event Calendar 2.0//EN
METHOD:PUBLISH
X-PUBLISHED-TTL:P3D
REFRESH-INTERVAL:P3D
CALSCALE:GREGORIAN
BEGIN:VEVENT
DTSTART:20181129T160000Z
DTEND:20181129T173000Z
X-MICROSOFT-CDO-ALLDAYEVENT:FALSE
SUMMARY:Google Calendar Basics
DESCRIPTION:Learn the basics of Google's free online calendar to schedule and manage your events and appointments\, share event information\, invites\, notifications\, and more. MUST HAVE A GOOGLE ACCOUNT FOR CLASS\; SEE LIBRARIANS FOR ASSISTANCE. This class is free but enrollment is required
X-ALT-DESC;FMTTYPE=text/html:Learn the basics of Google&rsquo\;s free online calendar to schedule and manage your events and appointments\, share event information\, invites\, notifications\, and more. MUST HAVE A GOOGLE ACCOUNT FOR CLASS\; SEE LIBRARIANS FOR ASSISTANCE. This class is free but enrollment is required
LOCATION:Winter Park Public Library 460 E. New England Ave. Winter Park\, FL 32789
UID:e.3221.5035906
SEQUENCE:3
DTSTAMP:20260422T115032Z
URL:https://winterparkgzcms.preview.gochambermaster.com/events/details/google-calendar-basics-5035906
END:VEVENT

END:VCALENDAR
