BEGIN:VCALENDAR
VERSION:2.0
PRODID:-//ChamberMaster//Event Calendar 2.0//EN
METHOD:PUBLISH
X-PUBLISHED-TTL:P3D
REFRESH-INTERVAL:P3D
CALSCALE:GREGORIAN
BEGIN:VEVENT
DTSTART:20200222T003000Z
DTEND:20200222T030000Z
X-MICROSOFT-CDO-ALLDAYEVENT:FALSE
SUMMARY:From Here - Opening Night!
DESCRIPTION:CFCArts Theatre Presents From Here\n\n\n\nBook/Music/Lyrics by Donald Rupe\n\nAdditional Music and Orchestrations by Jason Bailey\n\n\n\nFrom Here is an original musical written by our own Director of Theatre\, Donald Rupe. The production originally premiered at the Orlando International Fringe Festival in 2019 to enthusiastic crowds and rave reviews. Updated to a 90-minute piece\, the story follows Daniel\, a 30-something gay man on his journey to find love\, fulfillment\, and his tumultuous relationship with his mother. Daniel\, born and raised in Orlando\, is surrounded by a loving community of friends\, and the musical also explores what life was like as a gay man in Orlando during the tragic shooting at Pulse nightclub in 2016.\n\n\n\nFrom Here carries an important message for our community\, and for this show we proudly partner with the One Orlando Alliance\, an organization that unifies and empowers LGBTQ+ service organizations in Central Florida. Donations made while purchasing tickets for From Here will benefit the One Orlando Alliance to help members of our community. \n\n\n\n**This production contains adult language and themes and may not be suitable for all audiences. It also contains themes surrounding the Pulse Nightclub tragedy\, which may be upsetting or trigger a traumatic response in some audience members. Viewer's discretion is advised. \n\n\n\nPlease feel free to step out of the theatre if you need to\, and please be understanding of others' reactions.\n\n\n\nFor more information go to cfcarts.com/fromhere/
X-ALT-DESC;FMTTYPE=text/html:<span style="color:rgb(29\, 33\, 41)\; font-family:system-ui\,-apple-system\,system-ui\,.sfnstext-regular\,sans-serif\; font-size:14px">CFCArts Theatre Presents From Here</span><br />\n<br />\n<span style="color:rgb(29\, 33\, 41)\; font-family:system-ui\,-apple-system\,system-ui\,.sfnstext-regular\,sans-serif\; font-size:14px">Book/Music/Lyrics by Donald Rupe</span><br />\n<span style="color:rgb(29\, 33\, 41)\; font-family:system-ui\,-apple-system\,system-ui\,.sfnstext-regular\,sans-serif\; font-size:14px">Additional Music and Orchestrations by Jason Bailey</span><br />\n<br />\n<span style="color:rgb(29\, 33\, 41)\; font-family:system-ui\,-apple-system\,system-ui\,.sfnstext-regular\,sans-serif\; font-size:14px">From Here is an original musical written by our own Director of Theatre\, Donald Rupe. The production originally premiered at the Orlando International Fringe Festival in 2019 to enthusiastic crowds and rave reviews. Updated to a 90-minute piece\, the story follows Daniel\, a 30-something gay man on his journey to find love\, fulfillment\, and his tumultuous relationship with his mother. Daniel\, born and raised in Orlando\, is surrounded by a loving community of friends\, and the musical also explores what life was like as a gay man in Orlando during the tragic shooting at Pulse nightclub in 2016.</span><br />\n<br />\n<span style="color:rgb(29\, 33\, 41)\; font-family:system-ui\,-apple-system\,system-ui\,.sfnstext-regular\,sans-serif\; font-size:14px">From Here carries an important message for our community\, and for this show we proudly partner with the One Orlando Alliance\, an organization that unifies and empowers LGBTQ+ service organizations in Central Florida. Donations made while purchasing tickets for From Here will benefit the One Orlando Alliance to help members of our community. </span><br />\n<br />\n<span style="color:rgb(29\, 33\, 41)\; font-family:system-ui\,-apple-system\,system-ui\,.sfnstext-regular\,sans-serif\; font-size:14px">**This production contains adult language and themes and may not be suitable for all audiences. It also contains themes surrounding the Pulse Nightclub tragedy\, which may be upsetting or trigger a traumatic response in some audience members. Viewer&#39\;s discretion is advised. </span><br />\n<br />\n<span style="color:rgb(29\, 33\, 41)\; font-family:system-ui\,-apple-system\,system-ui\,.sfnstext-regular\,sans-serif\; font-size:14px">Please feel free to step out of the theatre if you need to\, and please be understanding of others&#39\; reactions.<br />\n<br />\nFor more information go to cfcarts.com/fromhere/</span>
LOCATION:Central Florida Community Arts 250 SW Ivanhoe Blvd\, Orlando\, Florida 32804
UID:e.3221.5039533
SEQUENCE:3
DTSTAMP:20260421T053106Z
URL:https://winterparkgzcms.preview.gochambermaster.com/events/details/from-here-opening-night-5039533
END:VEVENT

END:VCALENDAR
