BEGIN:VCALENDAR
VERSION:2.0
PRODID:-//ChamberMaster//Event Calendar 2.0//EN
METHOD:PUBLISH
X-PUBLISHED-TTL:P3D
REFRESH-INTERVAL:P3D
CALSCALE:GREGORIAN
BEGIN:VEVENT
DTSTART:20200701T180000Z
DTEND:20200701T190000Z
X-MICROSOFT-CDO-ALLDAYEVENT:FALSE
SUMMARY:Community Education Series:The Four Pillars of Recovery
DESCRIPTION:Learn how to conceptualize addiction and recovery in a straightforward and meaningful way\, learn how to better engage and support the recovery process of yourself and loved ones.\n\n\n\nPresented by:\n\nBrian Valasek\, LPCC-S\, LICDC\n\n\n\nBrian loves helping people see and work toward their full capacity for growth. His mission is to eradicate the stigma and shame people with addictions experience\, on an individual basis\, community-wide and within the addiction and mental health treatment professions.\n\n\n\nBrian has 15 years of experience in the mental health field\, in psychiatric rehabilitation\, community health\, community behavioral health\, and in private practice. He has been serving as the Clinical Director of Restoring Hope Counseling and Coaching in Cincinnati\, Ohio for the past 5 years. Brian is a counselor\, trainer\, and speaker who is passionate about addiction recovery and relapse prevention.\n\n\n\nTrevor Steinhauser\n\n\n\nAdvocate for Mental Health & Addiction\; Host of Stigmatized\, Behavioral Health Podcast.\n\n\n\nPlagued by head injuries as a child\, Trevor has spent his entire life working to understand and overcome the challenges that come with mental health and addiction. After spending 15 years in a family business\, he has become a behavioral health advocate. His passion is helping individuals\, families and the public-at-large to better understand the world of behavioral health. Through his podcast and advocacy work\, his goal is to spread awareness and education around this important topic.\n\n\n\nTime: 2PM - 3PM
X-ALT-DESC;FMTTYPE=text/html:<span style="color:rgb(35\, 35\, 51)\; font-family:lato\,helvetica\,arial\; font-size:14px">Learn how to conceptualize addiction and recovery in a straightforward and meaningful way\, learn how to better engage and support the recovery process of yourself and loved ones.</span><br />\n<br />\n<span style="color:rgb(35\, 35\, 51)\; font-family:lato\,helvetica\,arial\; font-size:14px">Presented by:</span><br />\n<span style="color:rgb(35\, 35\, 51)\; font-family:lato\,helvetica\,arial\; font-size:14px">Brian Valasek\, LPCC-S\, LICDC</span><br />\n<br />\n<span style="color:rgb(35\, 35\, 51)\; font-family:lato\,helvetica\,arial\; font-size:14px">Brian loves helping people see and work toward their full capacity for growth. His mission is to eradicate the stigma and shame people with addictions experience\, on an individual basis\, community-wide and within the addiction and mental health treatment professions.</span><br />\n<br />\n<span style="color:rgb(35\, 35\, 51)\; font-family:lato\,helvetica\,arial\; font-size:14px">Brian has 15 years of experience in the mental health field\, in psychiatric rehabilitation\, community health\, community behavioral health\, and in private practice. He has been serving as the Clinical Director of Restoring Hope Counseling and Coaching in Cincinnati\, Ohio for the past 5 years. Brian is a counselor\, trainer\, and speaker who is passionate about addiction recovery and relapse prevention.</span><br />\n<br />\n<span style="color:rgb(35\, 35\, 51)\; font-family:lato\,helvetica\,arial\; font-size:14px">Trevor Steinhauser</span><br />\n<br />\n<span style="color:rgb(35\, 35\, 51)\; font-family:lato\,helvetica\,arial\; font-size:14px">Advocate for Mental Health &amp\; Addiction\; Host of Stigmatized\, Behavioral Health Podcast.</span><br />\n<br />\n<span style="color:rgb(35\, 35\, 51)\; font-family:lato\,helvetica\,arial\; font-size:14px">Plagued by head injuries as a child\, Trevor has spent his entire life working to understand and overcome the challenges that come with mental health and addiction. After spending 15 years in a family business\, he has become a behavioral health advocate. His passion is helping individuals\, families and the public-at-large to better understand the world of behavioral health. Through his podcast and advocacy work\, his goal is to spread awareness and education around this important topic.</span><br />\n<br />\n<span style="color:rgb(35\, 35\, 51)\; font-family:lato\,helvetica\,arial\; font-size:14px">Time: 2PM - 3PM</span>
LOCATION:Online Webinar Via Zoom
UID:e.3221.5041079
SEQUENCE:3
DTSTAMP:20260420T163011Z
URL:https://winterparkgzcms.preview.gochambermaster.com/events/details/community-education-series-the-four-pillars-of-recovery-5041079
END:VEVENT

END:VCALENDAR
