BEGIN:VCALENDAR
VERSION:2.0
PRODID:-//ChamberMaster//Event Calendar 2.0//EN
METHOD:PUBLISH
X-PUBLISHED-TTL:P3D
REFRESH-INTERVAL:P3D
CALSCALE:GREGORIAN
BEGIN:VEVENT
DTSTART:20190905T230000Z
DTEND:20190906T020000Z
X-MICROSOFT-CDO-ALLDAYEVENT:FALSE
SUMMARY:Barber of Seville
DESCRIPTION:We mark the exciting return of Opera Night with Rossini's Barber of Seville. It is one of the most popular of operas\, known by untold millions who have never seen an opera but hum the barber Figaro's entrance song\, "Figaro! Figaro! Figaro!" Disguises\, false identities\, gossip\, and secrecy all in a comedy with a fun-filled happy ending. Enjoy legendary Fritz Wunderlich and Herman Prey in a classic 1959 performance of the Bavarian State Orchestra. Bring your own beverages and refreshments to share if you wish. We will provide some snacks.
X-ALT-DESC;FMTTYPE=text/html:We mark the exciting return of Opera Night with Rossini&rsquo\;s Barber of Seville. It is one of the most popular of operas\, known by untold millions who have never seen an opera but hum the barber Figaro&rsquo\;s entrance song\, &ldquo\;Figaro! Figaro! Figaro!&rdquo\; Disguises\, false identities\, gossip\, and secrecy&mdash\;all in a comedy with a fun-filled happy ending. Enjoy legendary Fritz Wunderlich and Herman Prey in a classic 1959 performance of the Bavarian State Orchestra. Bring your own beverages and refreshments to share if you wish. We will provide some snacks.
LOCATION:The University Club of Winter Park
UID:e.3221.5038046
SEQUENCE:3
DTSTAMP:20260421T181423Z
URL:https://winterparkgzcms.preview.gochambermaster.com/events/details/barber-of-seville-5038046
END:VEVENT

END:VCALENDAR
