BEGIN:VCALENDAR
VERSION:2.0
PRODID:-//ChamberMaster//Event Calendar 2.0//EN
METHOD:PUBLISH
X-PUBLISHED-TTL:P3D
REFRESH-INTERVAL:P3D
CALSCALE:GREGORIAN
BEGIN:VEVENT
DTSTART:20190911T123000Z
DTEND:20190911T133000Z
X-MICROSOFT-CDO-ALLDAYEVENT:FALSE
SUMMARY:Bagels With Betsy
DESCRIPTION:Not a member of the chamber yet? Think chamber membership isn't for you? Join us at a very special forum with Betsy Gardner Eckbert\, our President/CEO\, to learn about how the chamber adds value for our member!\n\n\n\nIn this informative session\, you will learn about all aspects of membership\, including our digital tools\, education\, advocacy and more!
X-ALT-DESC;FMTTYPE=text/html:<p><font color="#000000" face="arial"><span style="font-size: 14px\;">Not a member of the chamber yet? Think chamber membership isn&#39\;t for you? Join us at a very special forum with Betsy Gardner Eckbert\, our President/CEO\, to learn about how the chamber adds value for our member!<br />\n<br />\nIn this informative session\, you will learn about all aspects of membership\, including our digital tools\, education\, advocacy and more!</span></font></p>\n
LOCATION:151 W. Lyman Ave. Winter Park\, FL 32789
UID:e.3221.5038019
SEQUENCE:3
DTSTAMP:20260421T181104Z
URL:https://winterparkgzcms.preview.gochambermaster.com/events/details/bagels-with-betsy-5038019
END:VEVENT

END:VCALENDAR
